BEGIN:VCALENDAR
VERSION:2.0
PRODID:-//Carden & Associates//Event Calendar//EN
CALSCALE:GREGORIAN
METHOD:PUBLISH
X-WR-CALNAME:Carden & Associates Events
X-WR-TIMEZONE:America/New_York
X-WR-CALDESC:Tradeshows and community events from Carden & Associates, Inc.
BEGIN:VEVENT
UID:event-242@cardeninsurance.com
DTSTAMP:20260123T161700Z
DTSTART;VALUE=DATE:20260224
DTEND;VALUE=DATE:20260225
SUMMARY:2026 Georgia Citrus Association Conference
DESCRIPTION:2026 GEORGIA CITRUS ASSOCIATION CONFERENCE |FEBRUARY 24 TIFT\, GA EVENT DETAILS
URL:https://www.cardeninsurance.com/News/242
CATEGORIES:Events
END:VEVENT
BEGIN:VEVENT
UID:event-243@cardeninsurance.com
DTSTAMP:20260123T161700Z
DTSTART;VALUE=DATE:20260225
DTEND;VALUE=DATE:20260226
SUMMARY:Tift County Production Meeting - Peanut
DESCRIPTION:TIFT COUNTY PRODUCTION MEETING - PEANUT|FEBRUARY 25 TIFT\, GA EVENT DETAILS
URL:https://www.cardeninsurance.com/News/243
CATEGORIES:Events
END:VEVENT
BEGIN:VEVENT
UID:event-244@cardeninsurance.com
DTSTAMP:20260123T161700Z
DTSTART;VALUE=DATE:20260225
DTEND;VALUE=DATE:20260226
SUMMARY:Lay of the Land Conference
DESCRIPTION:LAY OF THE LAND CONFERENCE|FEBRUARY 25 LAKELAND\, FL EVENT DETAILS
URL:https://www.cardeninsurance.com/News/244
CATEGORIES:Events
END:VEVENT
BEGIN:VEVENT
UID:event-245@cardeninsurance.com
DTSTAMP:20260123T161700Z
DTSTART;VALUE=DATE:20260227
DTEND;VALUE=DATE:20260228
SUMMARY:ALFA Young Farmers of Alabama Conference
DESCRIPTION:ALFA YOUNG FARMERS OF ALABAMA CONFERENCE|FEBRUARY 27-MARCH 1 GULF SHORES\, AL EVENT DETAILS
URL:https://www.cardeninsurance.com/News/245
CATEGORIES:Events
END:VEVENT
BEGIN:VEVENT
UID:event-246@cardeninsurance.com
DTSTAMP:20260123T161700Z
DTSTART;VALUE=DATE:20260227
DTEND;VALUE=DATE:20260228
SUMMARY:Baldwin County Cattlemen's Association Meeting & Tradeshow
DESCRIPTION:BALDWIN COUNTY CATTLEMEN'S ASSOCIATION MEETING & TRADESHOW|FEBRUARY 27 CLAYTON\, AL EVENT DETAILS
URL:https://www.cardeninsurance.com/News/246
CATEGORIES:Events
END:VEVENT
BEGIN:VEVENT
UID:event-247@cardeninsurance.com
DTSTAMP:20260227T130000Z
DTSTART;VALUE=DATE:20260227
DTEND;VALUE=DATE:20260228
SUMMARY:Young Farmers of Alabama Conference
DESCRIPTION:YOUNG FARMERS OF ALABAMA CONFERENCE|FEBRUARY 27-MARCH 1 GULF SHORES\, AL EVENT DETAILS
URL:https://www.cardeninsurance.com/News/247
CATEGORIES:Events
END:VEVENT
BEGIN:VEVENT
UID:event-248@cardeninsurance.com
DTSTAMP:20260227T130000Z
DTSTART;VALUE=DATE:20260303
DTEND;VALUE=DATE:20260304
SUMMARY:Tifton Beef Cattle Short Course
DESCRIPTION:TIFTON BEEF CATTLE SHORT COURSE|MARCH 3 CHULA\, GA EVENT DETAILS
URL:https://www.cardeninsurance.com/News/248
CATEGORIES:Events
END:VEVENT
BEGIN:VEVENT
UID:event-249@cardeninsurance.com
DTSTAMP:20260227T130000Z
DTSTART;VALUE=DATE:20260304
DTEND;VALUE=DATE:20260305
SUMMARY:FBGA Spring Meeting & Tradeshow
DESCRIPTION:FBGA SPRING MEETING & TRADESHOW|MARCH 4 CITRA\, FL EVENT DETAILS
URL:https://www.cardeninsurance.com/News/249
CATEGORIES:Events
END:VEVENT
BEGIN:VEVENT
UID:event-250@cardeninsurance.com
DTSTAMP:20260227T130000Z
DTSTART;VALUE=DATE:20260306
DTEND;VALUE=DATE:20260307
SUMMARY:2026 Alabama Cattlemen's Association Convention & Trade Show
DESCRIPTION:2026 ALABAMA CATTLEMEN'S ASSOCIATION CONVENTION & TRADE SHOW|MARCH 6-7 MOBILE\, AL EVENT DETAILS
URL:https://www.cardeninsurance.com/News/250
CATEGORIES:Events
END:VEVENT
BEGIN:VEVENT
UID:event-251@cardeninsurance.com
DTSTAMP:20260227T130000Z
DTSTART;VALUE=DATE:20260312
DTEND;VALUE=DATE:20260313
SUMMARY:Florida Citrus Show
DESCRIPTION:FLORIDA CITRUS SHOW|MARCH 12 FORT PIERCE\, FL EVENT DETAILS
URL:https://www.cardeninsurance.com/News/251
CATEGORIES:Events
END:VEVENT
BEGIN:VEVENT
UID:event-252@cardeninsurance.com
DTSTAMP:20260227T130000Z
DTSTART;VALUE=DATE:20260319
DTEND;VALUE=DATE:20260320
SUMMARY:Georgia Berry Exchange Spring Meeting - 2026
DESCRIPTION:GEORGIA BERRY EXCHANGE SPRING MEETING|MARCH 19 ALMA\, GA EVENT DETAILS
URL:https://www.cardeninsurance.com/News/252
CATEGORIES:Events
END:VEVENT
BEGIN:VEVENT
UID:event-254@cardeninsurance.com
DTSTAMP:20260301T130000Z
DTSTART;VALUE=DATE:20260331
DTEND;VALUE=DATE:20260401
SUMMARY:Georgia Pecan Grower's Association Annual Conference and Trade Show
DESCRIPTION:GEORGIA PECAN GROWER'S ASSOCIATION ANNUAL CONFERENCE AND TRADE SHOW|MARCH 31-APRIL 1 PERRY\, GA EVENT DETAILS
URL:https://www.cardeninsurance.com/News/254
CATEGORIES:Events
END:VEVENT
BEGIN:VEVENT
UID:event-255@cardeninsurance.com
DTSTAMP:20260401T120000Z
DTSTART;VALUE=DATE:20260423
DTEND;VALUE=DATE:20260424
SUMMARY:Lay of the Land Georgia Conference - 2026
DESCRIPTION:LAY OF THE LAND GEORGIA CONFERENCE|APRIL 23 COLUMBUS\, GA EVENT DETAILS
URL:https://www.cardeninsurance.com/News/255
CATEGORIES:Events
END:VEVENT
BEGIN:VEVENT
UID:event-256@cardeninsurance.com
DTSTAMP:20260401T120000Z
DTSTART;VALUE=DATE:20260423
DTEND;VALUE=DATE:20260424
SUMMARY:Georgia Cattlemen's Association Annual Convention
DESCRIPTION:GEORGIA CATTLEMEN'S ASSOCIATION ANNUAL CONVENTION|APRIL 23-25 PERRY\, GA EVENT DETAILS
URL:https://www.cardeninsurance.com/News/256
CATEGORIES:Events
END:VEVENT
BEGIN:VEVENT
UID:event-257@cardeninsurance.com
DTSTAMP:20260401T120000Z
DTSTART;VALUE=DATE:20260429
DTEND;VALUE=DATE:20260430
SUMMARY:75th Annual Florida Beef Cattle Short Course
DESCRIPTION:75TH ANNUAL FLORIDA BEEF CATTLE SHORT COURSE|APRIL 29-30 GAINESVILLE\, FL EVENT DETAILS
URL:https://www.cardeninsurance.com/News/257
CATEGORIES:Events
END:VEVENT
BEGIN:VEVENT
UID:event-293@cardeninsurance.com
DTSTAMP:20260413T120000Z
DTSTART;VALUE=DATE:20260605
DTEND;VALUE=DATE:20260606
SUMMARY:2026 Georgia Blueberry Festival
DESCRIPTION:The Georgia Blueberry Festival is a locally organized festival. Its goal is to honor and recognize the importance of the blueberry crop to Alma and Bacon County and to thank those who are involved in the production of the blueberries. The Festival provides entertainment\, activities\, and food to local residents and visitors.
URL:https://www.cardeninsurance.com/News/293
CATEGORIES:Events
END:VEVENT
BEGIN:VEVENT
UID:event-294@cardeninsurance.com
DTSTAMP:20260413T120000Z
DTSTART;VALUE=DATE:20260609
DTEND;VALUE=DATE:20260610
SUMMARY:2026 Southeast Green Conference and Trade Show
DESCRIPTION:Southeast Green is Georgia's only trade show for the green industry. It's a chance to market to one of the largest concentrations of landscape contractors\, garden centers\, and other growers in the southeast.
URL:https://www.cardeninsurance.com/News/294
CATEGORIES:Events
END:VEVENT
BEGIN:VEVENT
UID:event-295@cardeninsurance.com
DTSTAMP:20260413T120000Z
DTSTART;VALUE=DATE:20260623
DTEND;VALUE=DATE:20260624
SUMMARY:Florida Cattlemen's Association Convention & Trade Show
DESCRIPTION:Come see us at Booth #115!
URL:https://www.cardeninsurance.com/News/295
CATEGORIES:Events
END:VEVENT
BEGIN:VEVENT
UID:event-296@cardeninsurance.com
DTSTAMP:20260413T120000Z
DTSTART;VALUE=DATE:20260625
DTEND;VALUE=DATE:20260626
SUMMARY:FNGLA Annual Convention
DESCRIPTION:FNGLA's Annual Convention is a time each year for FNGLA members and industry friends to celebrate the past year of success while welcoming FNGLA's new leadership taking office.
URL:https://www.cardeninsurance.com/News/296
CATEGORIES:Events
END:VEVENT
BEGIN:VEVENT
UID:event-300@cardeninsurance.com
DTSTAMP:20260413T120000Z
DTSTART;VALUE=DATE:20260811
DTEND;VALUE=DATE:20260812
SUMMARY:2026 Nursery/Landscape Expo
DESCRIPTION:2026 NURSERY/LANDSCAPE EXPO
URL:https://www.cardeninsurance.com/News/300
CATEGORIES:Events
END:VEVENT
BEGIN:VEVENT
UID:event-303@cardeninsurance.com
DTSTAMP:20260413T120000Z
DTSTART;VALUE=DATE:20260812
DTEND;VALUE=DATE:20260813
SUMMARY:Citrus & Specialty Crop Expo 2026
DESCRIPTION:CITRUS & SPECIALTY CROP EXPO
URL:https://www.cardeninsurance.com/News/303
CATEGORIES:Events
END:VEVENT
BEGIN:VEVENT
UID:event-302@cardeninsurance.com
DTSTAMP:20260413T120000Z
DTSTART;VALUE=DATE:20260819
DTEND;VALUE=DATE:20260820
SUMMARY:The Landscape Show 2026
DESCRIPTION:THE LANDSCAPE SHOW - FLORIDA NURSERY GARDEN & LANDSCAPE ASSOCIATION
URL:https://www.cardeninsurance.com/News/302
CATEGORIES:Events
END:VEVENT
BEGIN:VEVENT
UID:event-301@cardeninsurance.com
DTSTAMP:20260413T120000Z
DTSTART;VALUE=DATE:20260823
DTEND;VALUE=DATE:20260824
SUMMARY:Area 10 Ag Tour - ALFA Farmers
DESCRIPTION:AREA 10 AG TOUR - ALFA FARMERS
URL:https://www.cardeninsurance.com/News/301
CATEGORIES:Events
END:VEVENT
BEGIN:VEVENT
UID:event-304@cardeninsurance.com
DTSTAMP:20260413T120000Z
DTSTART;VALUE=DATE:20260829
DTEND;VALUE=DATE:20260830
SUMMARY:FCA Quality Heifer Sale
DESCRIPTION:FCA QUALITY REPLACEMENT HEIFER SALE
URL:https://www.cardeninsurance.com/News/304
CATEGORIES:Events
END:VEVENT
END:VCALENDAR
